BEGIN:VCALENDAR
VERSION:2.0
PRODID:-//PSEC - ECPv6.15.17//NONSGML v1.0//EN
CALSCALE:GREGORIAN
METHOD:PUBLISH
X-ORIGINAL-URL:https://psec.org
X-WR-CALDESC:Events for PSEC
REFRESH-INTERVAL;VALUE=DURATION:PT1H
X-Robots-Tag:noindex
X-PUBLISHED-TTL:PT1H
BEGIN:VTIMEZONE
TZID:America/New_York
BEGIN:DAYLIGHT
TZOFFSETFROM:-0500
TZOFFSETTO:-0400
TZNAME:EDT
DTSTART:20240310T070000
END:DAYLIGHT
BEGIN:STANDARD
TZOFFSETFROM:-0400
TZOFFSETTO:-0500
TZNAME:EST
DTSTART:20241103T060000
END:STANDARD
BEGIN:DAYLIGHT
TZOFFSETFROM:-0500
TZOFFSETTO:-0400
TZNAME:EDT
DTSTART:20250309T070000
END:DAYLIGHT
BEGIN:STANDARD
TZOFFSETFROM:-0400
TZOFFSETTO:-0500
TZNAME:EST
DTSTART:20251102T060000
END:STANDARD
BEGIN:DAYLIGHT
TZOFFSETFROM:-0500
TZOFFSETTO:-0400
TZNAME:EDT
DTSTART:20260308T070000
END:DAYLIGHT
BEGIN:STANDARD
TZOFFSETFROM:-0400
TZOFFSETTO:-0500
TZNAME:EST
DTSTART:20261101T060000
END:STANDARD
END:VTIMEZONE
BEGIN:VEVENT
DTSTART;TZID=America/New_York:20251012T150000
DTEND;TZID=America/New_York:20251012T173000
DTSTAMP:20260419T093306
CREATED:20250328T130153Z
LAST-MODIFIED:20250915T125633Z
UID:8249-1760281200-1760290200@psec.org
SUMMARY:Reception and Service for the 300th Anniversary of the First Communion of the German Reformed Church in America
DESCRIPTION:This year we\, the four PA Conferences of the UCC\, will come together to celebrate the 300th Anniversary of the German Reformed Church in the United States which began with the first communion at Faulkner Swamp\, October 15\, 1725. This celebration of our immigrant heritage is particularly meaningful and instructive given the current conversations about immigration happening around the nation. \nOn Sunday October 12th\, we will celebrate with communion\, this special anniversary.  Our guest preacher will be our General Minister and President\, The Rev. Dr. Karen Georgia Thompson. \nWe will begin with the service\, including communion\, at 3:00 pm with a reception following. \nTO REGISTER:\nThe service itself will be hybrid.  Please click here to register (for free)\, for either in-person on a hybrid experience.  You must have an “in person” registration to attend in person.
URL:https://psec.org/event/300th-anniversary-of-the-german-reformed-church/
LOCATION:Falkner Swamp Reformed UCC\, 2077 Swamp Pike\, Gilbertsville\, PA\, 19525
CATEGORIES:PA 4 UCC Conferences Event
END:VEVENT
BEGIN:VEVENT
DTSTART;TZID=America/New_York:20251014T183000
DTEND;TZID=America/New_York:20251014T193000
DTSTAMP:20260419T093306
CREATED:20250903T153332Z
LAST-MODIFIED:20250903T153332Z
UID:8722-1760466600-1760470200@psec.org
SUMMARY:Keystone Town Hall:  2026 Budget
DESCRIPTION:A member of the Keystone Budget & Finance team will lead a discussion on the proposed 2026 Keystone Budget. This session is a great opportunity to ask questions\, gain clarity\, and better understand the budget ahead of our online meeting on November 22\, when we will vote on its approval. \nFor free registration\, click here.
URL:https://psec.org/event/keystone-town-hall-2026-budget-4/
CATEGORIES:PA 4 UCC Conferences Event
END:VEVENT
BEGIN:VEVENT
DTSTART;TZID=America/New_York:20251028T190000
DTEND;TZID=America/New_York:20251028T200000
DTSTAMP:20260419T093306
CREATED:20250512T155805Z
LAST-MODIFIED:20250512T155805Z
UID:8407-1761678000-1761681600@psec.org
SUMMARY:Gifts of the Reformed Church Going Forward w/ Dr. Randall Zachman
DESCRIPTION:Gifts of the Reformed Church Going Forward w/ Dr. Randall Zachman\nDr. Zachman examines what are the unique gifts that the Reformed theological tradition can offer to the church going into the future? Two of its most important gifts are the focus on the free self-giving goodness of God\,  and the central role of gratitude in the lives of the faithful. The Reformed tradition insists that God is not only the giver of every good thing\, but is also the one who freely gives Godself to us\, so that “God may be all in all” (1 Cor. 15:28). Our lives should therefore express gratitude not only for the abundant gifts God freely gives us\, but for the gift of God’s very self to us. This is a powerful message and gift we can share as the church moving forward.\nFor free registration\, click here.
URL:https://psec.org/event/gifts-of-the-reformed-church-going-forward-w-dr-randall-zachman/
LOCATION:Zoom
CATEGORIES:PA 4 UCC Conferences Event
END:VEVENT
END:VCALENDAR